BEGIN:VCALENDAR
VERSION:2.0
PRODID:-//3nity.com//3nity CMS//EN
BEGIN:VEVENT
SUMMARY:Thrive Marriage Conference - Reno, NV
UID:2026-07-18-1149322@daretobedifferent.com
SEQUENCE:0
STATUS:CONFIRMED
DTSTART:20260501T180000
DTEND:20260501T200000
DTSTAMP:20161222T120000
DESCRIPTION:
URL:http://daretobedifferent.com
END:VEVENT
END:VCALENDAR
