BEGIN:VCALENDAR
VERSION:2.0
PRODID:-//3nity.com//3nity CMS//EN
BEGIN:VEVENT
SUMMARY:Speaking Engagement (Unoffendable) - Huntington Beach, CA
UID:2026-07-18-1208205@daretobedifferent.com
SEQUENCE:0
STATUS:CONFIRMED
DTSTART:20261018T080000
DTEND:20261018T090000
DTSTAMP:20161222T120000
DESCRIPTION:
URL:http://daretobedifferent.com
END:VEVENT
END:VCALENDAR
