BEGIN:VCALENDAR
VERSION:2.0
PRODID:-//3nity.com//3nity CMS//EN
BEGIN:VEVENT
SUMMARY:Marriage Mentor Training Level 1 (2-Day Event) - Big Lake, MN
UID:2026-07-18-1216139@daretobedifferent.com
SEQUENCE:0
STATUS:CONFIRMED
DTSTART:20261002T183000
DTEND:20261003T013000
DTSTAMP:20161222T120000
DESCRIPTION:
URL:http://daretobedifferent.com
END:VEVENT
END:VCALENDAR
