BEGIN:VCALENDAR
VERSION:2.0
PRODID:-//3nity.com//3nity CMS//EN
BEGIN:VEVENT
SUMMARY:Marriage Mentor Training Level 2 & 3 (2-Day Event) - New Braunfels, TX
UID:2026-07-18-1216373@daretobedifferent.com
SEQUENCE:0
STATUS:CONFIRMED
DTSTART:20260918T180000
DTEND:20260919T010000
DTSTAMP:20161222T120000
DESCRIPTION:
URL:http://daretobedifferent.com
END:VEVENT
END:VCALENDAR
