BEGIN:VCALENDAR
VERSION:2.0
PRODID:-//3nity.com//3nity CMS//EN
BEGIN:VEVENT
SUMMARY:Thrive Marriage Seminar - Largo, FL
UID:2026-07-18-1216375@daretobedifferent.com
SEQUENCE:0
STATUS:CONFIRMED
DTSTART:20261025T160000
DTEND:20261025T190000
DTSTAMP:20161222T120000
DESCRIPTION:
URL:http://daretobedifferent.com
END:VEVENT
END:VCALENDAR
